BEGIN:VCALENDAR
PRODID:-//eluceo/ical//2.0/EN
VERSION:2.0
CALSCALE:GREGORIAN
BEGIN:VEVENT
UID:4bbb01a2-eaa2-477a-b3b2-1e2081931627
DTSTAMP:20251016T164715Z
SUMMARY:25. Simson- und Oldtimertreffen für Zweiradfahrzeuge
DESCRIPTION:
DTSTART:20260919T100000
DTEND:20260919T180000
LOCATION:Sportplatz Ursprung\, Alte Flockenstraße 8\, in 09385 Lugau OT Ur
 sprung
END:VEVENT
BEGIN:VTIMEZONE
TZID:Europe/Berlin
BEGIN:DAYLIGHT
DTSTART:20260919T100000
TZNAME:CEST
TZOFFSETTO:+0200
TZOFFSETFROM:+0200
END:DAYLIGHT
END:VTIMEZONE
END:VCALENDAR
